BEGIN:VCALENDAR
VERSION:2.0
PRODID:-//Lions&#039; Club of Madison, Mississippi - ECPv6.15.20//NONSGML v1.0//EN
CALSCALE:GREGORIAN
METHOD:PUBLISH
X-WR-CALNAME:Lions&#039; Club of Madison, Mississippi
X-ORIGINAL-URL:https://lionsclubofmadison.org
X-WR-CALDESC:Events for Lions&#039; Club of Madison, Mississippi
REFRESH-INTERVAL;VALUE=DURATION:PT1H
X-Robots-Tag:noindex
X-PUBLISHED-TTL:PT1H
BEGIN:VTIMEZONE
TZID:America/New_York
BEGIN:DAYLIGHT
TZOFFSETFROM:-0500
TZOFFSETTO:-0400
TZNAME:EDT
DTSTART:20200308T070000
END:DAYLIGHT
BEGIN:STANDARD
TZOFFSETFROM:-0400
TZOFFSETTO:-0500
TZNAME:EST
DTSTART:20201101T060000
END:STANDARD
BEGIN:DAYLIGHT
TZOFFSETFROM:-0500
TZOFFSETTO:-0400
TZNAME:EDT
DTSTART:20210314T070000
END:DAYLIGHT
BEGIN:STANDARD
TZOFFSETFROM:-0400
TZOFFSETTO:-0500
TZNAME:EST
DTSTART:20211107T060000
END:STANDARD
BEGIN:DAYLIGHT
TZOFFSETFROM:-0500
TZOFFSETTO:-0400
TZNAME:EDT
DTSTART:20220313T070000
END:DAYLIGHT
BEGIN:STANDARD
TZOFFSETFROM:-0400
TZOFFSETTO:-0500
TZNAME:EST
DTSTART:20221106T060000
END:STANDARD
BEGIN:DAYLIGHT
TZOFFSETFROM:-0500
TZOFFSETTO:-0400
TZNAME:EDT
DTSTART:20230312T070000
END:DAYLIGHT
BEGIN:STANDARD
TZOFFSETFROM:-0400
TZOFFSETTO:-0500
TZNAME:EST
DTSTART:20231105T060000
END:STANDARD
END:VTIMEZONE
BEGIN:VEVENT
DTSTART;TZID=America/New_York:20220222T113000
DTEND;TZID=America/New_York:20220222T123000
DTSTAMP:20260419T221303
CREATED:20211025T001343Z
LAST-MODIFIED:20220207T202538Z
UID:2140-1645529400-1645533000@lionsclubofmadison.org
SUMMARY:CLUB MEETING-Guest Speaker\, Wayne Pinkerton\, First Baptist Church\, Madison\, MS
DESCRIPTION:Guest Speaker\, Wayne Pinkerton\, Business Manager of First Baptist Church\, Madison \, MS.
URL:https://lionsclubofmadison.org/event/club-meeting-8/
LOCATION:MS
END:VEVENT
BEGIN:VEVENT
DTSTART;TZID=America/New_York:20220208T113000
DTEND;TZID=America/New_York:20220208T123000
DTSTAMP:20260419T221303
CREATED:20211025T001248Z
LAST-MODIFIED:20220126T211330Z
UID:2138-1644319800-1644323400@lionsclubofmadison.org
SUMMARY:CLUB MEETING - Guest Speaker\, Ben Ingram\, The Voice of the Atlanta Braves
DESCRIPTION:Ben Ingram\, The Voice of the Atlanta Braves will be our guest speaker\, on February 8\, 2022. \n  \n  \n  \n  \n 
URL:https://lionsclubofmadison.org/event/club-meeting-7/
LOCATION:Hamil’s\, 751 Hwy 51\, Madison\, MS\, MS\, 39110\, United States
END:VEVENT
BEGIN:VEVENT
DTSTART;TZID=America/New_York:20220207T080000
DTEND;TZID=America/New_York:20220207T170000
DTSTAMP:20260419T221303
CREATED:20220207T224516Z
LAST-MODIFIED:20220207T224516Z
UID:2340-1644220800-1644253200@lionsclubofmadison.org
SUMMARY:INTERNATIONAL CONVENTION-MONTREAL\, CANADA
DESCRIPTION:The annual Lions Clubs Internation Convention will be held in Montreal\, Canada July 1-5\, 2022.
URL:https://lionsclubofmadison.org/event/international-convention-montreal-canada/
LOCATION:MS
END:VEVENT
BEGIN:VEVENT
DTSTART;TZID=America/New_York:20220204T160000
DTEND;TZID=America/New_York:20220205T170000
DTSTAMP:20260419T221303
CREATED:20211025T000919Z
LAST-MODIFIED:20220122T151927Z
UID:2130-1643990400-1644080400@lionsclubofmadison.org
SUMMARY:30-S Mid-Winter Convention
DESCRIPTION:Our 2022 30-S Mid-Winter Convention will be held in Ocean Springs\, MS.  Plans are for the Saturday ending be after lunch.
URL:https://lionsclubofmadison.org/event/30-s-mid-winter-convention/
LOCATION:MS
END:VEVENT
BEGIN:VEVENT
DTSTART;TZID=America/New_York:20220201T120000
DTEND;TZID=America/New_York:20220201T130000
DTSTAMP:20260419T221303
CREATED:20211025T001158Z
LAST-MODIFIED:20211025T001158Z
UID:2136-1643716800-1643720400@lionsclubofmadison.org
SUMMARY:Board Meeting
DESCRIPTION:First board meeting in February 2022.
URL:https://lionsclubofmadison.org/event/board-meeting-6/
LOCATION:MS
END:VEVENT
BEGIN:VEVENT
DTSTART;TZID=America/New_York:20220128T160000
DTEND;TZID=America/New_York:20220129T170000
DTSTAMP:20260419T221303
CREATED:20211025T001109Z
LAST-MODIFIED:20211025T001109Z
UID:2134-1643385600-1643475600@lionsclubofmadison.org
SUMMARY:30-M Mid-Winter Convention
DESCRIPTION:The District 30-M Mid-Winter Convention will be held in Tupelo\, MS.
URL:https://lionsclubofmadison.org/event/30-m-mid-winter-convention/
LOCATION:MS
END:VEVENT
BEGIN:VEVENT
DTSTART;TZID=America/New_York:20220125T113000
DTEND;TZID=America/New_York:20220125T123000
DTSTAMP:20260419T221303
CREATED:20211025T001003Z
LAST-MODIFIED:20211025T001003Z
UID:2132-1643110200-1643113800@lionsclubofmadison.org
SUMMARY:Club Meeting
DESCRIPTION:Our second club meeting in January 2022.
URL:https://lionsclubofmadison.org/event/club-meeting-6/
LOCATION:MS
END:VEVENT
BEGIN:VEVENT
DTSTART;TZID=America/New_York:20220111T113000
DTEND;TZID=America/New_York:20220111T133000
DTSTAMP:20260419T221303
CREATED:20211025T000719Z
LAST-MODIFIED:20211229T212952Z
UID:2126-1641900600-1641907800@lionsclubofmadison.org
SUMMARY:Club Meeting-Speakers Nan Lyles and John Burns at Turnkey Restoration
DESCRIPTION:We will have our first club meeting of 2022 on this date.
URL:https://lionsclubofmadison.org/event/club-meeting-5/
LOCATION:Hamil’s\, 751 Hwy 51\, Madison\, MS\, MS\, 39110\, United States
END:VEVENT
BEGIN:VEVENT
DTSTART;TZID=America/New_York:20220104T120000
DTEND;TZID=America/New_York:20220104T130000
DTSTAMP:20260419T221303
CREATED:20211025T000809Z
LAST-MODIFIED:20211025T000809Z
UID:2128-1641297600-1641301200@lionsclubofmadison.org
SUMMARY:Board Meeting
DESCRIPTION:Our January board meeting will be on this date at Restoration 1.
URL:https://lionsclubofmadison.org/event/board-meeting-5/
LOCATION:MS
END:VEVENT
BEGIN:VEVENT
DTSTART;TZID=America/New_York:20211214T183000
DTEND;TZID=America/New_York:20211214T210000
DTSTAMP:20260419T221303
CREATED:20211026T205602Z
LAST-MODIFIED:20211026T205602Z
UID:2189-1639506600-1639515600@lionsclubofmadison.org
SUMMARY:Dec. 14th Christmas Party - St. Columbs Episcopal Church
DESCRIPTION:Our annual Christmas Party will be at S. Columbs Episcopal Church on Dec. 14th.  We will begin at 6:30 pm.
URL:https://lionsclubofmadison.org/event/dec-14th-christmas-party-st-columbs-episcopal-church/
LOCATION:MS
END:VEVENT
BEGIN:VEVENT
DTSTART;TZID=America/New_York:20211207T120000
DTEND;TZID=America/New_York:20211207T130000
DTSTAMP:20260419T221303
CREATED:20211025T000616Z
LAST-MODIFIED:20211025T000616Z
UID:2124-1638878400-1638882000@lionsclubofmadison.org
SUMMARY:Board Meeting
DESCRIPTION:We will have our last board meeting for 2021 at Restoration 1.
URL:https://lionsclubofmadison.org/event/board-meeting-4/
LOCATION:MS
END:VEVENT
BEGIN:VEVENT
DTSTART;TZID=America/New_York:20211204T063000
DTEND;TZID=America/New_York:20211204T120000
DTSTAMP:20260419T221303
CREATED:20211025T000521Z
LAST-MODIFIED:20211025T000521Z
UID:2122-1638599400-1638619200@lionsclubofmadison.org
SUMMARY:Madison Christmas Parade
DESCRIPTION:We will help line up Christmas Parade floats at Ridgecrest Baptist Church\, across from the Madison Airport.
URL:https://lionsclubofmadison.org/event/madison-christmas-parade/
LOCATION:MS
END:VEVENT
BEGIN:VEVENT
DTSTART;TZID=America/New_York:20211123T113000
DTEND;TZID=America/New_York:20211123T123000
DTSTAMP:20260419T221303
CREATED:20211025T000401Z
LAST-MODIFIED:20211025T000401Z
UID:2120-1637667000-1637670600@lionsclubofmadison.org
SUMMARY:NO CLUB MEETING
DESCRIPTION:We will not meet on this date due to Hamils needing the space for Thanksgiving turkey stagging.
URL:https://lionsclubofmadison.org/event/no-club-meeting/
LOCATION:MS
END:VEVENT
BEGIN:VEVENT
DTSTART;TZID=America/New_York:20211113T080000
DTEND;TZID=America/New_York:20211113T130000
DTSTAMP:20260419T221303
CREATED:20210902T131908Z
LAST-MODIFIED:20210902T131908Z
UID:1923-1636790400-1636808400@lionsclubofmadison.org
SUMMARY:Chick-N-Go
DESCRIPTION:Our annual Chick-N-Go fundraiser is planned for Saturday\, November 13th.  We plan to grill 1\,000 chicken halves\, along with a piece of corn on the cob\, potato salad\, roll and plastic utensils in a take-out container.  The best-grilled chicken in the US!
URL:https://lionsclubofmadison.org/event/chick-n-go/
LOCATION:MS
END:VEVENT
BEGIN:VEVENT
DTSTART;TZID=America/New_York:20211113T070000
DTEND;TZID=America/New_York:20211113T130000
DTSTAMP:20260419T221303
CREATED:20211025T000249Z
LAST-MODIFIED:20211025T000303Z
UID:2117-1636786800-1636808400@lionsclubofmadison.org
SUMMARY:Madison Lions Club Chick-N-Go Fundraiser
DESCRIPTION:Our annual Chick-N-Go fund raiser on Hwy. 51 in Madison\, MS.
URL:https://lionsclubofmadison.org/event/madison-lions-club-chick-n-go/
LOCATION:MS
END:VEVENT
BEGIN:VEVENT
DTSTART;TZID=America/New_York:20211112T170000
DTEND;TZID=America/New_York:20211113T170000
DTSTAMP:20260419T221303
CREATED:20211025T000150Z
LAST-MODIFIED:20211025T000150Z
UID:2115-1636736400-1636822800@lionsclubofmadison.org
SUMMARY:Mid-South Lions Quarterly Board Meeting
DESCRIPTION:The Mid-South Lions Quarterly Board meeting will be held in Overland\, MO
URL:https://lionsclubofmadison.org/event/mid-south-lions-quarterly-board-meeting/
LOCATION:MS
END:VEVENT
BEGIN:VEVENT
DTSTART;TZID=America/New_York:20211112T083000
DTEND;TZID=America/New_York:20211112T100000
DTSTAMP:20260419T221303
CREATED:20211025T000028Z
LAST-MODIFIED:20211025T000028Z
UID:2113-1636705800-1636711200@lionsclubofmadison.org
SUMMARY:Kids World Sight Screening
DESCRIPTION:We begin at 8:30 am.
URL:https://lionsclubofmadison.org/event/kids-world-sight-screening/
LOCATION:MS
END:VEVENT
BEGIN:VEVENT
DTSTART;TZID=America/New_York:20211109T113000
DTEND;TZID=America/New_York:20211109T123000
DTSTAMP:20260419T221303
CREATED:20211024T235935Z
LAST-MODIFIED:20211025T200957Z
UID:2111-1636457400-1636461000@lionsclubofmadison.org
SUMMARY:MS Attorney General Lynn Fitch-Guest Speaker
DESCRIPTION:MS Attorney General\, Lynn Fitch\, will be our guest speaker at club meeting at Hamil’s.
URL:https://lionsclubofmadison.org/event/ms-attorney-general-lynn-fitch-guest-speaker/
LOCATION:MS
END:VEVENT
BEGIN:VEVENT
DTSTART;TZID=America/New_York:20211105T083000
DTEND;TZID=America/New_York:20211105T100000
DTSTAMP:20260419T221303
CREATED:20211024T235639Z
LAST-MODIFIED:20211024T235801Z
UID:2107-1636101000-1636106400@lionsclubofmadison.org
SUMMARY:Madison UMC Sight Screening
DESCRIPTION:Next Sight Screening location
URL:https://lionsclubofmadison.org/event/madison-lions-board-meeting/
LOCATION:MS
END:VEVENT
BEGIN:VEVENT
DTSTART;TZID=America/New_York:20211102T120000
DTEND;TZID=America/New_York:20211102T130000
DTSTAMP:20260419T221303
CREATED:20210902T132105Z
LAST-MODIFIED:20210902T132105Z
UID:1929-1635854400-1635858000@lionsclubofmadison.org
SUMMARY:Board Meeting
DESCRIPTION:
URL:https://lionsclubofmadison.org/event/board-meeting-3/
LOCATION:MS
END:VEVENT
BEGIN:VEVENT
DTSTART;TZID=America/New_York:20211030T080000
DTEND;TZID=America/New_York:20211030T160000
DTSTAMP:20260419T221303
CREATED:20211024T235445Z
LAST-MODIFIED:20211024T235445Z
UID:2105-1635580800-1635609600@lionsclubofmadison.org
SUMMARY:State Office Meetings
DESCRIPTION:Saturday meetings of the Council of Governors\, Sight Foundation\, 30-S Cabinet and various committees
URL:https://lionsclubofmadison.org/event/state-office-meetings/
LOCATION:State Office
END:VEVENT
BEGIN:VEVENT
DTSTART;TZID=America/New_York:20211029T120000
DTEND;TZID=America/New_York:20211029T170000
DTSTAMP:20260419T221303
CREATED:20211024T235303Z
LAST-MODIFIED:20211024T235320Z
UID:2099-1635508800-1635526800@lionsclubofmadison.org
SUMMARY:Vice-District Governor Training
DESCRIPTION:Friday\, training for Vice-District Governors
URL:https://lionsclubofmadison.org/event/vice-district-governor-training/
LOCATION:State Office
END:VEVENT
BEGIN:VEVENT
DTSTART;TZID=America/New_York:20211026T113000
DTEND;TZID=America/New_York:20211026T133000
DTSTAMP:20260419T221303
CREATED:20210902T132209Z
LAST-MODIFIED:20211026T124747Z
UID:1933-1635247800-1635255000@lionsclubofmadison.org
SUMMARY:Club Meeting - Guest Speaker - Bill Blackwell\, Director of the MS Sports Hall of Fame
DESCRIPTION:
URL:https://lionsclubofmadison.org/event/club-meeting-4/
LOCATION:MS
ATTACH;FMTTYPE=image/jpeg:https://lionsclubofmadison.org/wp-content/uploads/2019/07/cropped-LionLogo4c.jpg
END:VEVENT
BEGIN:VEVENT
DTSTART;TZID=America/New_York:20211025T080000
DTEND;TZID=America/New_York:20211025T170000
DTSTAMP:20260419T221303
CREATED:20211025T201929Z
LAST-MODIFIED:20211025T201929Z
UID:2169-1635148800-1635181200@lionsclubofmadison.org
SUMMARY:MS Attorney General Lynn Fitch
DESCRIPTION:Lynn Fitch will be our Madison Lions Club speaker on November 9th. She was sworn in as Mississippi’s 40th Attorney General and the first-ever woman Attorney General on January 9\, 2020. \nLynn was raised in Holly Springs\, MS and earned both a Bachelor of Business Administration and a Juris Doctorate at the University of MS. She began her legal career as a Special Assistant Attorney General at the MS Attorney General’s Office. She continued her career in private practice\, accumulating more than 35 years of legal experience both in private practice and public service. \nHer past work included MS State Treasurer\, Governor Barbour’s Executive Director of the MS State Personnel Board\, and Deputy Executive Director at the MS Department of Employment Security. \n \nGeneral Fitch was selected as Outstanding Woman Lawyer of 2012\, honored as a MS Business Journal Leader in Finance in 2016 and Leader in Law in 2010. In 2017\, General Fitch was named one of MS’s Top 50 Most Influential. \nLynn has been active in her community\, serving as a member of the boards of several charitable organizations including First Responders of MS\, the Juvenile Diabetes Research Foundation\, Goodwill Industries\, and the American Red Cross.
URL:https://lionsclubofmadison.org/event/ms-attorney-general-lynn-fitch/
LOCATION:MS
END:VEVENT
BEGIN:VEVENT
DTSTART;TZID=America/New_York:20211012T113000
DTEND;TZID=America/New_York:20211012T123000
DTSTAMP:20260419T221303
CREATED:20210902T132138Z
LAST-MODIFIED:20210903T031811Z
UID:1931-1634038200-1634041800@lionsclubofmadison.org
SUMMARY:Club Meeting - Tim Pickett\, Guest Speaker\, from Region 8
DESCRIPTION:
URL:https://lionsclubofmadison.org/event/club-meeting-3/
LOCATION:MS
END:VEVENT
BEGIN:VEVENT
DTSTART;TZID=America/New_York:20211005T120000
DTEND;TZID=America/New_York:20211005T130000
DTSTAMP:20260419T221303
CREATED:20210902T132022Z
LAST-MODIFIED:20210902T132022Z
UID:1927-1633435200-1633438800@lionsclubofmadison.org
SUMMARY:Board Meeting
DESCRIPTION:
URL:https://lionsclubofmadison.org/event/board-meeting-2/
LOCATION:MS
END:VEVENT
BEGIN:VEVENT
DTSTART;TZID=America/New_York:20210930T080000
DTEND;TZID=America/New_York:20210930T170000
DTSTAMP:20260419T221303
CREATED:20210902T131050Z
LAST-MODIFIED:20210902T131050Z
UID:1919-1632988800-1633021200@lionsclubofmadison.org
SUMMARY:Golf Tournament
DESCRIPTION:The Madison Lions Club will host its first golf tournament\, Thursday\, September 30th at Whisper Lake\, Madison\,\, MS.  Proceeds will be used in our country to serve children with eye screenings\, diabetes awareness\, and other Lions projects. \n  \nWE SERVE!
URL:https://lionsclubofmadison.org/event/golf-tournament/
LOCATION:MS
END:VEVENT
BEGIN:VEVENT
DTSTART;TZID=America/New_York:20210928T113000
DTEND;TZID=America/New_York:20210928T123000
DTSTAMP:20260419T221303
CREATED:20210902T130829Z
LAST-MODIFIED:20210902T130829Z
UID:1917-1632828600-1632832200@lionsclubofmadison.org
SUMMARY:Dr. Vijah\, U.M.M.C. Guest Speaker
DESCRIPTION:On Tuesday\, September 28th\, Dr. Vijah\, Chairman of Radiology and Oncology at U.M.M.C. will be our guest speaker.  He is an authority on men’s prostate and has written a book on the subject.  He will have a copy o his book\, free of charge to our members and guests.  You don’t want to miss this club meeting.
URL:https://lionsclubofmadison.org/event/dr-vijah-u-m-m-c-guest-speaker/
LOCATION:MS
END:VEVENT
BEGIN:VEVENT
DTSTART;TZID=America/New_York:20210914T113000
DTEND;TZID=America/New_York:20210914T123000
DTSTAMP:20260419T221303
CREATED:20210902T130427Z
LAST-MODIFIED:20210902T130548Z
UID:1915-1631619000-1631622600@lionsclubofmadison.org
SUMMARY:Becky Floyd\, Guest Speaker
DESCRIPTION:On Tuesday\, Sept. 14th\, Becky will be our club’s guest speaker.  She is a member of the Metro Jackson Lions Club.  She has been training dogs to assist sight-impaired people in Mississippi.  She currently has forty dogs to just that in Mississippi.
URL:https://lionsclubofmadison.org/event/becky-floyd-guest-speaker/
LOCATION:MS
END:VEVENT
BEGIN:VEVENT
DTSTART;TZID=America/New_York:20210909T080000
DTEND;TZID=America/New_York:20210911T170000
DTSTAMP:20260419T221303
CREATED:20210902T131438Z
LAST-MODIFIED:20210902T131438Z
UID:1921-1631174400-1631379600@lionsclubofmadison.org
SUMMARY:U.S.A./Canada Forum
DESCRIPTION:September 7-11\, Des Moines\, IA\, will host the 2021 U.S.A./Canada Forum.  This forum will have over 50 different classes offered on varied subjects.  It is a great opportunity to learn what other are doing service-wise projects and general visiting\, fellowship and developing new contacts.
URL:https://lionsclubofmadison.org/event/u-s-a-canada-forum/
LOCATION:MS
END:VEVENT
END:VCALENDAR